BEGIN:VCALENDAR
VERSION:2.0
PRODID:-//Saalfelden-Leogang.com//NONSGML kigkonsult.se iCalcreator 2.22.1/
 /EN
METHOD:PUBLISH
X-WR-CALNAME;LANGUAGE=en:Saalfelden-Leogang.com
X-WR-CALDESC;LANGUAGE=en:Saalfelden-Leogang.com
X-WR-TIMEZONE;LANGUAGE=en:Europe/Berlin
BEGIN:VEVENT
UID:20260421T135333CEST-4416Ra1vVv@Saalfelden-Leogang.com
DTSTAMP:20260421T115333Z
DESCRIPTION;LANGUAGE=en:Austria\, Germany \n\nYvonne Moriel – saxophone \n
 \nAlex Kranabetter – trumpet\, electronics \n\nVincent Pongracz – bass cla
 rinet\, electronics \n\nChristian Lillinger – drums\n\n\n\nMetaphysics or 
 anti-calendar epigram? 'Nothing Causes Everything' is the name of an updat
 ed version of this quartet featuring these two Austrian Jazz Prize winners
 : Yvonne Moriel on saxophone\, who last year also demonstrated fascinating
  versatility with her flash mobs at the festival\, and Vincent Pongrácz on
  bass clarinet and electronics. They first met in 2024 with sound architec
 t Alex Kranabetter and his noise-processed trumpet for a compositionally i
 mprovised set at their 'Synesthetic Wednesday' concert series in Vienna. T
 he result was described at the time as 'experimental noise jazz.' The new 
 addition to the group fits perfectly: drummer Christian Lillinger\, 'the m
 an who takes drumming to a higher level' (Die Zeit). What these four creat
 e out of nothing not only becomes something\, but so much better than that
 .
DTSTART:20250824T113000Z
DTEND:20250824T123000Z
LOCATION;LANGUAGE=en:Otto Gruber Halle
SUMMARY;LANGUAGE=en:Nothing Causes Anything
END:VEVENT
END:VCALENDAR
